BEGIN:VCALENDAR
VERSION:2.0
PRODID:SchoolNow
CALSCALE:GREGORIAN
BEGIN:VEVENT
UID:036cfd0e-d535-11f0-862e-0a58a9feac02
DTSTAMP:20251216T214636Z
SUMMARY:MS Info & Tour Night
URL;VALUE=URI:https://www.spectrumhighschool.org/calendar/8820674/ms-info-t
 our-night
DTSTART:20260224T233000Z
DTEND:20260225T001500Z
END:VEVENT
END:VCALENDAR
