BEGIN:VCALENDAR
VERSION:2.0
PRODID:SchoolNow
CALSCALE:GREGORIAN
BEGIN:VEVENT
UID:46b67b16-d06d-11f0-bebb-0e5d87ae8441
DTSTAMP:20251216T214636Z
SUMMARY:Elem. Info & Tour Night
URL;VALUE=URI:https://www.spectrumhighschool.org/calendar/8816761/elem-info
 -tour-night
DTSTART:20260224T233000Z
DTEND:20260225T001500Z
END:VEVENT
END:VCALENDAR
