BEGIN:VCALENDAR
VERSION:2.0
PRODID:SchoolNow
CALSCALE:GREGORIAN
BEGIN:VEVENT
UID:4a7a03f2-bb83-11f0-84c0-0a58a9feac02
DTSTAMP:20251216T214636Z
SUMMARY:Prof. Dev. - No School for Students
URL;VALUE=URI:https://www.spectrumhighschool.org/calendar/8782065/prof-dev-
 no-school-for-students
DTSTART;VALUE=DATE:20260224
DTEND;VALUE=DATE:20260225
END:VEVENT
END:VCALENDAR
